BEGIN:VCALENDAR
VERSION:2.0
PRODID:-//wp-events-plugin.com//7.2.3.1//EN
TZID:Europe/Paris
X-WR-TIMEZONE:Europe/Paris
BEGIN:VEVENT
UID:1195@cran.univ-lorraine.fr
DTSTART;TZID=Europe/Paris;VALUE=DATE:20260506
DTEND;TZID=Europe/Paris;VALUE=DATE:20260507
DTSTAMP:20260324T075519Z
URL:https://www.cran.univ-lorraine.fr/events/workshop-grands-modeles-de-la
 ngue-resonance-ou-raisonnement/
SUMMARY:Workshop « Grands modèles de langue : résonance ou raisonnement 
 ? »
DESCRIPTION:Les grands modèles de langue (LLM) renouvellent en profondeur 
 la question du raisonnement artificiel. En trois ans\, on a pu en effet as
 sister à une progression fulgurante de la qualité des productions des LL
 M qui\, pour certains\, peuvent accompagner leurs réponses de justificati
 ons\, d'argumentations étayées\, voire de preuves formelles.\n\nCe works
 hop propose d’examiner\, au-delà des performances techniques\, les enje
 ux conceptuels et philosophiques soulevés par ces systèmes. Ces raisonne
 ments sont-ils véritablement nouveaux et produits par des machines\, ou n
 e sont-ils que la résonance de raisonnements humains mémorisés dans leu
 r base d'apprentissage ? Que signifie « raisonner » pour un modèle stat
 istique ? Peut-on parler de compréhension\, d’inférence ou d’intenti
 onnalité sans sujet pensant ?\n\nNous interrogerons les continuités et r
 uptures entre raisonnement humain et calcul algorithmique\, ainsi que les 
 implications épistémologiques de l’usage croissant des LLM dans la pro
 duction de connaissances.\n\nLe workshop se veut un espace de dialogue int
 erdisciplinaire entre informatique\, philosophie et sciences cognitives.\n
 \n~~ Participants ~~\n\n  * Clémentine Bleuze (Loria\, Université de Lo
 rraine\, Nancy)\n"Discours scientifique sur le "raisonnement" des LLM : im
 pacts sur la recherche et les représentations collectives"\n  * Denis Bo
 nnay (Université Paris Nanterre)\n"Thinking whether thinking models think
  (À quoi les modèles de raisonnement pensent-ils ?)"\n  * Christophe Ce
 risara (Loria\, CNRS\, Nancy)\n"Raisonnement\, mémorisation et générali
 sation dans les LLM"\n  * Martin Schüle (ZHAW - Université des Sciences
  Appliquées de Zurich)\n"Sur la représentation de la sémantique dans le
 s LLM"\n\n~~ Organisation ~~\n\nManifestation organisée par :\n  * Group
 e LLM &amp\; Raisonnement (AHP-Loria)\ncoordonnée par :\n  * Mathieu d'A
 quin (Loria)\n  * David Langlois (Loria)\n  * Manuel Rebuschi (AHP-PReST
 )\navec le soutien de :\n  * Archives Henri-Poincaré (AHP-PReST)\n  * I
 nsight\n  * Loria\n  * Pôle AM2I\n\n~~ Inscriptions ~~\n\nEntrée libre
 \, inscription obligatoire avant le 20 avril.\nPour plus d'informations et
  pour le formulaire d'inscription:\nhttps://poincare.univ-lorraine.fr/fr/m
 anifestations/grands-modeles-de-langue-resonance-ou-raisonnement
CATEGORIES:Journée scientifique
END:VEVENT
BEGIN:VTIMEZONE
TZID:Europe/Paris
X-LIC-LOCATION:Europe/Paris
BEGIN:DAYLIGHT
DTSTART:20260329T030000
TZOFFSETFROM:+0100
TZOFFSETTO:+0200
TZNAME:CEST
END:DAYLIGHT
END:VTIMEZONE
END:VCALENDAR