BEGIN:VCALENDAR
VERSION:2.0
PRODID:-//wp-events-plugin.com//7.2.3.1//EN
TZID:Europe/Paris
X-WR-TIMEZONE:Europe/Paris
BEGIN:VEVENT
UID:1198@cran.univ-lorraine.fr
DTSTART;TZID=Europe/Paris:20260530T200000
DTEND;TZID=Europe/Paris:20260530T220000
DTSTAMP:20260402T093127Z
URL:https://www.cran.univ-lorraine.fr/events/theatre-debat-il-ne-faut-pas-
 confondre-la-radiotherapie-avec-un-coucher-de-soleil-2/
SUMMARY:Théâtre-débat : Il ne faut pas confondre la radiothérapie avec 
 un coucher de soleil
DESCRIPTION:
CATEGORIES:Mai en gris
LOCATION:Ferme du Charmois\, Allée Jean Legras (accès par la rue Gabriel 
 Péri)\, Vandoeuvre-lès-Nancy\, 54500\, France
X-APPLE-STRUCTURED-LOCATION;VALUE=URI;X-ADDRESS=Allée Jean Legras (accès 
 par la rue Gabriel Péri)\, Vandoeuvre-lès-Nancy\, 54500\, France;X-APPLE
 -RADIUS=100;X-TITLE=Ferme du Charmois:geo:0,0
END:VEVENT
BEGIN:VTIMEZONE
TZID:Europe/Paris
X-LIC-LOCATION:Europe/Paris
BEGIN:DAYLIGHT
DTSTART:20260329T030000
TZOFFSETFROM:+0100
TZOFFSETTO:+0200
TZNAME:CEST
END:DAYLIGHT
END:VTIMEZONE
END:VCALENDAR