BEGIN:VCALENDAR
VERSION:2.0
PRODID:-//wp-events-plugin.com//7.2.3.1//EN
TZID:Europe/Paris
X-WR-TIMEZONE:Europe/Paris
BEGIN:VEVENT
UID:61@cran.univ-lorraine.fr
DTSTART;TZID=Europe/Paris:20240319T150000
DTEND;TZID=Europe/Paris:20240319T170000
DTSTAMP:20240319T135539Z
URL:https://www.cran.univ-lorraine.fr/events/seminaire-twinforall/
SUMMARY:Réunion TwinForAll
DESCRIPTION:
CATEGORIES:Département MPSI
LOCATION:FST - AIPL\, 745 Rue du Jardin Botanique\, Villers-lès-Nancy\, Fr
 ance
X-APPLE-STRUCTURED-LOCATION;VALUE=URI;X-ADDRESS=745 Rue du Jardin Botanique
 \, Villers-lès-Nancy\, France;X-APPLE-RADIUS=100;X-TITLE=FST - AIPL:geo:0
 ,0
END:VEVENT
BEGIN:VTIMEZONE
TZID:Europe/Paris
X-LIC-LOCATION:Europe/Paris
BEGIN:STANDARD
DTSTART:20231029T020000
TZOFFSETFROM:+0200
TZOFFSETTO:+0100
TZNAME:CET
END:STANDARD
END:VTIMEZONE
END:VCALENDAR