BEGIN:VCALENDAR
VERSION:2.0
PRODID:-//wp-events-plugin.com//7.2.3.1//EN
TZID:Europe/Paris
X-WR-TIMEZONE:Europe/Paris
BEGIN:VEVENT
UID:1201@cran.univ-lorraine.fr
DTSTART;TZID=Europe/Paris:20260504T090000
DTEND;TZID=Europe/Paris:20260504T110000
DTSTAMP:20260405T085322Z
URL:https://www.cran.univ-lorraine.fr/events/reunion-commission-ist-mai-20
 26/
SUMMARY:Réunion Commission IST - Mai 2026
DESCRIPTION:
CATEGORIES:Commission IST
END:VEVENT
BEGIN:VTIMEZONE
TZID:Europe/Paris
X-LIC-LOCATION:Europe/Paris
BEGIN:DAYLIGHT
DTSTART:20260329T030000
TZOFFSETFROM:+0100
TZOFFSETTO:+0200
TZNAME:CEST
END:DAYLIGHT
END:VTIMEZONE
END:VCALENDAR