BEGIN:VCALENDAR
VERSION:2.0
PRODID:-//wp-events-plugin.com//7.2.3.1//EN
TZID:Europe/Paris
X-WR-TIMEZONE:Europe/Paris
BEGIN:VEVENT
UID:593@cran.univ-lorraine.fr
DTSTART;TZID=Europe/Paris:20250120T100000
DTEND;TZID=Europe/Paris:20250120T120000
DTSTAMP:20250115T123322Z
URL:https://www.cran.univ-lorraine.fr/events/reunion-arn-7/
SUMMARY:Réunion ARN
DESCRIPTION:\n\n 	Présentation de Samir Si-Mohammed (Post-doctorant au lab
 oratoire ICube - Unistra) sur les jumeaux numériques pour des réseaux sa
 ns-fil auto-configurables\nRésumé : Au cours des dernières décennies\,
  les réseaux sans-fil ont connu un essor remarquable\, notamment dû à l
 'interconnexion de dispositifs via des technologies de communication vari
 ées telles que le Wi-Fi\, LoRa ou la 5G\, chacune répondant à des besoi
 ns spécifiques en termes de portée\, de bande passante et de consommatio
 n énergétique. Toutefois\, la complexité croissante de ces réseaux né
 cessite des approches précises et dynamiques afin de maximiser leurs perf
 ormances. Les Jumeaux Numériques (JN)\, quant à eux\, sont des réplique
 s virtuelles en temps réel\, synchronisées avec des systèmes physiques\
 , permettant une simulation dynamique et précise. Contrairement à une si
 mple simulation\, un JN garantit une interaction bidirectionnelle continue
  avec son homologue physique\, facilitant ainsi l'adaptation en temps rée
 l. Dans cette présentation\, nous explorons comment l'intégration des ju
 meaux numériques dans les réseaux sans-fil peut permettre de concevoir d
 es réseaux autonomes et auto-configurables\, capables d'ajuster dynamique
 ment leurs configurations en fonction des conditions changeantes de l’en
 vironnement.\n 	\nAccueil de Camilo TAPIA (nouveau doctorant - CIFRE avec 
 AREAL)\n\n
CATEGORIES:Séminaires projet ARN
LOCATION:CRAN - FST - 5ème\, Bd des Aiguillettes\, Vandoeuvre les Nancy\, 
 France
X-APPLE-STRUCTURED-LOCATION;VALUE=URI;X-ADDRESS=Bd des Aiguillettes\, Vando
 euvre les Nancy\, France;X-APPLE-RADIUS=100;X-TITLE=CRAN - FST - 5ème:geo
 :0,0
END:VEVENT
BEGIN:VTIMEZONE
TZID:Europe/Paris
X-LIC-LOCATION:Europe/Paris
BEGIN:STANDARD
DTSTART:20241027T020000
TZOFFSETFROM:+0200
TZOFFSETTO:+0100
TZNAME:CET
END:STANDARD
END:VTIMEZONE
END:VCALENDAR