BEGIN:VCALENDAR
VERSION:2.0
PRODID:-//wp-events-plugin.com//7.2.3.1//EN
TZID:Europe/Paris
X-WR-TIMEZONE:Europe/Paris
BEGIN:VEVENT
UID:81@cran.univ-lorraine.fr
DTSTART;TZID=Europe/Paris:20240610T100000
DTEND;TZID=Europe/Paris:20240610T120000
DTSTAMP:20240605T155623Z
URL:https://www.cran.univ-lorraine.fr/events/reunion-arn-5/
SUMMARY:Réunion ARN - Informatique quantique
DESCRIPTION:\nInformatique quantique - une introduction et application aux 
 réseaux \n\nConférencier : Emmanuel Hainry (MCF Loria - équipe MOCQUA)
 \n\nOrdinateurs quantiques\, cryptographie post-quantique\, suprémacie qu
 antique...\nL'informatique quantique a depuis quelques années beaucoup de
  visibilité.\nPourquoi\, qu'apporte-t-elle de plus ? Y a-t-il des défaut
 s ? Est-ce réaliste ou simplement un modèle théorique ? Dans cet expos
 é\, nous définirons ce qu'est l'informatique quantique\, ses avantages e
 t inconvénients\, ainsi que ce qui est interdit par la physique quantique
 .\nNous parlerons des ordinateurs quantiques existant\, présenterons des 
 langages de programmation quantique et des algorithmes quantiques tels que
  l'algorithme de Grover\, l'algorithme de Shor et la transformée de Fouri
 er quantique.\nNous verrons aussi des applications quantiques à un protoc
 ole d'échange de clefs et à des preuves Zero-Knowledge.
CATEGORIES:Séminaires projet ARN
LOCATION:CRAN - FST - 4ème\, Campus Sciences\, Boulevard des Aiguillettes\
 , Vandoeuvre-lès-Nancy\, 54506\, France
X-APPLE-STRUCTURED-LOCATION;VALUE=URI;X-ADDRESS=Campus Sciences\, Boulevard
  des Aiguillettes\, Vandoeuvre-lès-Nancy\, 54506\, France;X-APPLE-RADIUS=
 100;X-TITLE=CRAN - FST - 4ème:geo:0,0
END:VEVENT
BEGIN:VTIMEZONE
TZID:Europe/Paris
X-LIC-LOCATION:Europe/Paris
BEGIN:DAYLIGHT
DTSTART:20240331T030000
TZOFFSETFROM:+0100
TZOFFSETTO:+0200
TZNAME:CEST
END:DAYLIGHT
END:VTIMEZONE
END:VCALENDAR