BEGIN:VCALENDAR
VERSION:2.0
PRODID:-//wp-events-plugin.com//7.2.3.1//EN
TZID:Europe/Paris
X-WR-TIMEZONE:Europe/Paris
BEGIN:VEVENT
UID:1188@cran.univ-lorraine.fr
DTSTART;TZID=Europe/Paris:20260619T140000
DTEND;TZID=Europe/Paris:20260619T170000
DTSTAMP:20260304T154544Z
URL:https://www.cran.univ-lorraine.fr/events/conseil-de-laboratoire-11/
SUMMARY:Conseil de laboratoire
DESCRIPTION:
CATEGORIES:Conseil de laboratoire
END:VEVENT
BEGIN:VTIMEZONE
TZID:Europe/Paris
X-LIC-LOCATION:Europe/Paris
BEGIN:DAYLIGHT
DTSTART:20260329T030000
TZOFFSETFROM:+0100
TZOFFSETTO:+0200
TZNAME:CEST
END:DAYLIGHT
END:VTIMEZONE
END:VCALENDAR