BEGIN:VCALENDAR
VERSION:2.0
PRODID:-//wp-events-plugin.com//7.2.3.1//EN
TZID:Europe/Paris
X-WR-TIMEZONE:Europe/Paris
BEGIN:VEVENT
UID:24@cran.univ-lorraine.fr
DTSTART;TZID=Europe/Paris:20240627T160000
DTEND;TZID=Europe/Paris:20240627T193000
DTSTAMP:20240627T133809Z
URL:https://www.cran.univ-lorraine.fr/events/ag-mpsi/
SUMMARY:AG MPSI
DESCRIPTION:Programme :\n\n 	Vie du département (quelques informations qua
 litatives et quantitatives pour MPSI) (30') (Jean-Philippe\, Hind)​\n 	P
 olitique de publication : un focus sur les revues prédatrices (5- 10')​
 \n 	Point Parité (Pascale\, Moufida\, Mickael) (5 -10')​\n 	Présentati
 on scientifique sur la prise en compte de l'éthique dans l'industrie (30'
  présentation+ 15' réponses aux questions) (Damien Trenteseaux)​\n 	An
 imation scientifique des projets (30') (Nicolas\, William\, Phuc)​\n\nRe
 staurant à Nancy à partir de 19h00​
CATEGORIES:Assemblées Générales MPSI
LOCATION:FST - AIPL\, 745 Rue du Jardin Botanique\, Villers-lès-Nancy\, Fr
 ance
X-APPLE-STRUCTURED-LOCATION;VALUE=URI;X-ADDRESS=745 Rue du Jardin Botanique
 \, Villers-lès-Nancy\, France;X-APPLE-RADIUS=100;X-TITLE=FST - AIPL:geo:0
 ,0
END:VEVENT
BEGIN:VTIMEZONE
TZID:Europe/Paris
X-LIC-LOCATION:Europe/Paris
BEGIN:DAYLIGHT
DTSTART:20240331T030000
TZOFFSETFROM:+0100
TZOFFSETTO:+0200
TZNAME:CEST
END:DAYLIGHT
END:VTIMEZONE
END:VCALENDAR