BEGIN:VCALENDAR
VERSION:2.0
PRODID:-//wp-events-plugin.com//7.2.3.1//EN
TZID:Europe/Paris
X-WR-TIMEZONE:Europe/Paris
BEGIN:VEVENT
UID:1098@cran.univ-lorraine.fr
DTSTART;TZID=Europe/Paris:20251211T160000
DTEND;TZID=Europe/Paris:20251211T190000
DTSTAMP:20250904T122510Z
URL:https://www.cran.univ-lorraine.fr/events/ag-mpsi-4/
SUMMARY:AG MPSI
DESCRIPTION:
CATEGORIES:Assemblées Générales MPSI,Département MPSI
LOCATION:CRAN - FST - 5ème\, Bd des Aiguillettes\, Vandoeuvre les Nancy\, 
 France
X-APPLE-STRUCTURED-LOCATION;VALUE=URI;X-ADDRESS=Bd des Aiguillettes\, Vando
 euvre les Nancy\, France;X-APPLE-RADIUS=100;X-TITLE=CRAN - FST - 5ème:geo
 :0,0
END:VEVENT
BEGIN:VTIMEZONE
TZID:Europe/Paris
X-LIC-LOCATION:Europe/Paris
BEGIN:STANDARD
DTSTART:20251026T020000
TZOFFSETFROM:+0200
TZOFFSETTO:+0100
TZNAME:CET
END:STANDARD
END:VTIMEZONE
END:VCALENDAR